BEGIN:VCALENDAR
VERSION:2.0
PRODID:-//Purple Moon - ECPv6.15.20//NONSGML v1.0//EN
CALSCALE:GREGORIAN
METHOD:PUBLISH
X-WR-CALNAME:Purple Moon
X-ORIGINAL-URL:https://purplemoon.live
X-WR-CALDESC:Events for Purple Moon
REFRESH-INTERVAL;VALUE=DURATION:PT1H
X-Robots-Tag:noindex
X-PUBLISHED-TTL:PT1H
BEGIN:VTIMEZONE
TZID:Europe/Paris
BEGIN:DAYLIGHT
TZOFFSETFROM:+0100
TZOFFSETTO:+0200
TZNAME:CEST
DTSTART:20220327T010000
END:DAYLIGHT
BEGIN:STANDARD
TZOFFSETFROM:+0200
TZOFFSETTO:+0100
TZNAME:CET
DTSTART:20221030T010000
END:STANDARD
BEGIN:DAYLIGHT
TZOFFSETFROM:+0100
TZOFFSETTO:+0200
TZNAME:CEST
DTSTART:20230326T010000
END:DAYLIGHT
BEGIN:STANDARD
TZOFFSETFROM:+0200
TZOFFSETTO:+0100
TZNAME:CET
DTSTART:20231029T010000
END:STANDARD
BEGIN:DAYLIGHT
TZOFFSETFROM:+0100
TZOFFSETTO:+0200
TZNAME:CEST
DTSTART:20240331T010000
END:DAYLIGHT
BEGIN:STANDARD
TZOFFSETFROM:+0200
TZOFFSETTO:+0100
TZNAME:CET
DTSTART:20241027T010000
END:STANDARD
END:VTIMEZONE
BEGIN:VEVENT
DTSTART;TZID=Europe/Paris:20230325T193000
DTEND;TZID=Europe/Paris:20230325T223000
DTSTAMP:20260422T015336
CREATED:20230123T212317Z
LAST-MODIFIED:20230126T160109Z
UID:1985-1679772600-1679783400@purplemoon.live
SUMMARY:Collapse Into Never
DESCRIPTION:
URL:https://purplemoon.live/event/collapse-into-never/
LOCATION:Culture Bar\, 61 Rue de Clausen\, Luxembourg\, 1342\, Luxembourg
CATEGORIES:Gigs
END:VEVENT
END:VCALENDAR