BEGIN:VCALENDAR
VERSION:2.0
PRODID:-//Purple Moon - ECPv6.15.20//NONSGML v1.0//EN
CALSCALE:GREGORIAN
METHOD:PUBLISH
X-ORIGINAL-URL:https://purplemoon.live
X-WR-CALDESC:Events for Purple Moon
REFRESH-INTERVAL;VALUE=DURATION:PT1H
X-Robots-Tag:noindex
X-PUBLISHED-TTL:PT1H
BEGIN:VTIMEZONE
TZID:Europe/Paris
BEGIN:DAYLIGHT
TZOFFSETFROM:+0100
TZOFFSETTO:+0200
TZNAME:CEST
DTSTART:20210328T010000
END:DAYLIGHT
BEGIN:STANDARD
TZOFFSETFROM:+0200
TZOFFSETTO:+0100
TZNAME:CET
DTSTART:20211031T010000
END:STANDARD
BEGIN:DAYLIGHT
TZOFFSETFROM:+0100
TZOFFSETTO:+0200
TZNAME:CEST
DTSTART:20220327T010000
END:DAYLIGHT
BEGIN:STANDARD
TZOFFSETFROM:+0200
TZOFFSETTO:+0100
TZNAME:CET
DTSTART:20221030T010000
END:STANDARD
BEGIN:DAYLIGHT
TZOFFSETFROM:+0100
TZOFFSETTO:+0200
TZNAME:CEST
DTSTART:20230326T010000
END:DAYLIGHT
BEGIN:STANDARD
TZOFFSETFROM:+0200
TZOFFSETTO:+0100
TZNAME:CET
DTSTART:20231029T010000
END:STANDARD
END:VTIMEZONE
BEGIN:VEVENT
DTSTART;TZID=Europe/Paris:20220622T213000
DTEND;TZID=Europe/Paris:20220622T223000
DTSTAMP:20260423T005402
CREATED:20220521T163258Z
LAST-MODIFIED:20220521T163258Z
UID:1749-1655933400-1655937000@purplemoon.live
SUMMARY:De Virowend vun Nationalfeierdag
DESCRIPTION:
URL:https://purplemoon.live/event/de-virowend-vun-nationalfeierdag/
LOCATION:Reckange Open Air\, 53\, rue Jean-Pierre Hilger\, Reckange-sur-Mess\, L-4980\, Luxembourg
CATEGORIES:Gigs
END:VEVENT
END:VCALENDAR